Package: COSMIC.67 Version: 1.47.0 Command: /home/biocbuild/bbs-3.23-bioc/R/bin/R CMD build --keep-empty-dirs --no-resave-data COSMIC.67 StartedAt: 2025-11-06 11:11:27 -0500 (Thu, 06 Nov 2025) EndedAt: 2025-11-06 11:12:31 -0500 (Thu, 06 Nov 2025) EllapsedTime: 64.3 seconds RetCode: 0 Status: OK PackageFile: COSMIC.67_1.47.0.tar.gz PackageFileSize: 39.18 MiB