Package: CENTREprecomputed Version: 1.1.0 Command: /home/biocbuild/bbs-3.23-bioc/R/bin/R CMD build --keep-empty-dirs --no-resave-data CENTREprecomputed StartedAt: 2025-11-20 11:09:23 -0500 (Thu, 20 Nov 2025) EndedAt: 2025-11-20 11:09:53 -0500 (Thu, 20 Nov 2025) EllapsedTime: 29.0 seconds RetCode: 0 Status: OK PackageFile: CENTREprecomputed_1.1.0.tar.gz PackageFileSize: 225.8 KiB