Package: BloodCancerMultiOmics2017 Version: 1.31.0 Command: /home/biocbuild/bbs-3.23-bioc/R/bin/R CMD INSTALL BloodCancerMultiOmics2017 StartedAt: 2025-11-06 10:59:47 -0500 (Thu, 06 Nov 2025) EndedAt: 2025-11-06 11:00:34 -0500 (Thu, 06 Nov 2025) EllapsedTime: 46.7 seconds RetCode: 0 Status: OK