Package: AssessORFData Version: 1.29.0 Command: /home/biocbuild/bbs-3.23-bioc/R/bin/R CMD INSTALL AssessORFData StartedAt: 2025-11-06 10:56:41 -0500 (Thu, 06 Nov 2025) EndedAt: 2025-11-06 10:57:25 -0500 (Thu, 06 Nov 2025) EllapsedTime: 44.1 seconds RetCode: 0 Status: OK