Package: AssessORFData Version: 1.29.0 Command: /home/biocbuild/bbs-3.23-bioc/R/bin/R CMD build --keep-empty-dirs --no-resave-data AssessORFData StartedAt: 2025-11-06 11:07:40 -0500 (Thu, 06 Nov 2025) EndedAt: 2025-11-06 11:09:13 -0500 (Thu, 06 Nov 2025) EllapsedTime: 92.9 seconds RetCode: 0 Status: OK PackageFile: AssessORFData_1.29.0.tar.gz PackageFileSize: 144.6 MiB