Package: AffymetrixDataTestFiles Version: 0.49.0 Command: /home/biocbuild/bbs-3.23-bioc/R/bin/R CMD build --keep-empty-dirs --no-resave-data AffymetrixDataTestFiles StartedAt: 2025-11-06 11:07:31 -0500 (Thu, 06 Nov 2025) EndedAt: 2025-11-06 11:08:36 -0500 (Thu, 06 Nov 2025) EllapsedTime: 65.3 seconds RetCode: 0 Status: OK PackageFile: AffymetrixDataTestFiles_0.49.0.tar.gz PackageFileSize: 38.84 MiB