Package: AffymetrixDataTestFiles Version: 0.49.0 Maintainer: Henrik Bengtsson MaintainerEmail: henrikb at braju.com git_url: https://git.bioconductor.org/packages/AffymetrixDataTestFiles git_branch: devel git_last_commit: f2552d1 git_last_commit_date: 2025-10-29 09:23:09 -0500 (Wed, 29 Oct 2025)