Package: AWAggregatorData Version: 1.1.0 Command: /home/biocbuild/bbs-3.23-bioc/R/bin/R CMD build --keep-empty-dirs --no-resave-data AWAggregatorData StartedAt: 2025-11-06 11:07:42 -0500 (Thu, 06 Nov 2025) EndedAt: 2025-11-06 11:08:42 -0500 (Thu, 06 Nov 2025) EllapsedTime: 59.5 seconds RetCode: 0 Status: OK PackageFile: AWAggregatorData_1.1.0.tar.gz PackageFileSize: 220.4 KiB