Package: zebrafishRNASeq Version: 1.29.0 Command: /home/biocbuild/bbs-3.22-bioc/R/bin/R CMD build --keep-empty-dirs --no-resave-data zebrafishRNASeq StartedAt: 2025-09-25 11:47:26 -0400 (Thu, 25 Sep 2025) EndedAt: 2025-09-25 11:47:30 -0400 (Thu, 25 Sep 2025) EllapsedTime: 4.0 seconds RetCode: 0 Status: OK PackageFile: zebrafishRNASeq_1.29.0.tar.gz PackageFileSize: 429 KiB