Package: yeastGSData Version: 0.48.0 Command: /home/biocbuild/bbs-3.22-bioc/R/bin/R CMD INSTALL yeastGSData StartedAt: 2025-11-20 10:55:31 -0500 (Thu, 20 Nov 2025) EndedAt: 2025-11-20 10:55:35 -0500 (Thu, 20 Nov 2025) EllapsedTime: 4.7 seconds RetCode: 0 Status: OK