Package: tinesath1probe Version: 1.48.0 Command: /home/biocbuild/bbs-3.22-bioc/R/bin/R CMD INSTALL tinesath1probe StartedAt: 2025-11-20 10:57:04 -0500 (Thu, 20 Nov 2025) EndedAt: 2025-11-20 10:57:13 -0500 (Thu, 20 Nov 2025) EllapsedTime: 9.5 seconds RetCode: 0 Status: OK