Package: timecoursedata Version: 1.20.0 Command: /home/biocbuild/bbs-3.22-bioc/R/bin/R CMD INSTALL timecoursedata StartedAt: 2025-11-13 11:00:34 -0500 (Thu, 13 Nov 2025) EndedAt: 2025-11-13 11:00:58 -0500 (Thu, 13 Nov 2025) EllapsedTime: 23.2 seconds RetCode: 0 Status: OK