Package: spqnData Version: 1.22.0 Command: /home/biocbuild/bbs-3.22-bioc/R/bin/R CMD build --keep-empty-dirs --no-resave-data spqnData StartedAt: 2025-11-20 11:47:23 -0500 (Thu, 20 Nov 2025) EndedAt: 2025-11-20 11:47:26 -0500 (Thu, 20 Nov 2025) EllapsedTime: 3.0 seconds RetCode: 0 Status: OK PackageFile: spqnData_1.22.0.tar.gz PackageFileSize: 10.17 MiB