Package: shinyMethylData Version: 1.29.0 Command: /home/biocbuild/bbs-3.22-bioc/R/bin/R CMD INSTALL shinyMethylData StartedAt: 2025-09-30 10:55:55 -0400 (Tue, 30 Sep 2025) EndedAt: 2025-09-30 10:56:09 -0400 (Tue, 30 Sep 2025) EllapsedTime: 14.8 seconds RetCode: 0 Status: OK