Package: scpdata Version: 1.17.1 Command: /home/biocbuild/bbs-3.22-bioc/R/bin/R CMD INSTALL scpdata StartedAt: 2025-09-25 11:00:27 -0400 (Thu, 25 Sep 2025) EndedAt: 2025-09-25 11:00:59 -0400 (Thu, 25 Sep 2025) EllapsedTime: 32.5 seconds RetCode: 0 Status: OK