Package: scanMiRData Version: 1.16.0 Maintainer: Pierre-Luc Germain MaintainerEmail: pierre-luc.germain at hest.ethz.ch git_url: https://git.bioconductor.org/packages/scanMiRData git_branch: RELEASE_3_22 git_last_commit: 2035cf4 git_last_commit_date: 2025-10-29 10:04:04 -0500 (Wed, 29 Oct 2025)