Package: scMultiome Version: 1.9.0 Command: /home/biocbuild/bbs-3.22-bioc/R/bin/R CMD INSTALL scMultiome StartedAt: 2025-10-07 11:03:21 -0400 (Tue, 07 Oct 2025) EndedAt: 2025-10-07 11:03:52 -0400 (Tue, 07 Oct 2025) EllapsedTime: 30.5 seconds RetCode: 0 Status: OK