Package: scMultiome Version: 1.9.0 Command: /home/biocbuild/bbs-3.22-bioc/R/bin/R CMD build --keep-empty-dirs --no-resave-data scMultiome StartedAt: 2025-10-07 11:40:02 -0400 (Tue, 07 Oct 2025) EndedAt: 2025-10-07 11:40:54 -0400 (Tue, 07 Oct 2025) EllapsedTime: 51.3 seconds RetCode: 0 Status: OK PackageFile: scMultiome_1.9.0.tar.gz PackageFileSize: 359.8 KiB