Package: rcellminerData Version: 2.32.0 Command: /home/biocbuild/bbs-3.22-bioc/R/bin/R CMD INSTALL rcellminerData StartedAt: 2025-10-30 10:56:28 -0400 (Thu, 30 Oct 2025) EndedAt: 2025-10-30 10:56:48 -0400 (Thu, 30 Oct 2025) EllapsedTime: 19.8 seconds RetCode: 0 Status: OK