Package: rcellminerData Version: 2.32.0 Command: /home/biocbuild/bbs-3.22-bioc/R/bin/R CMD build --keep-empty-dirs --no-resave-data rcellminerData StartedAt: 2025-10-30 11:47:31 -0400 (Thu, 30 Oct 2025) EndedAt: 2025-10-30 11:52:13 -0400 (Thu, 30 Oct 2025) EllapsedTime: 282.4 seconds RetCode: 0 Status: OK PackageFile: rcellminerData_2.32.0.tar.gz PackageFileSize: 382 MiB