Package: qPLEXdata Version: 1.28.0 Command: /home/biocbuild/bbs-3.22-bioc/R/bin/R CMD INSTALL qPLEXdata StartedAt: 2025-11-18 11:02:42 -0500 (Tue, 18 Nov 2025) EndedAt: 2025-11-18 11:03:24 -0500 (Tue, 18 Nov 2025) EllapsedTime: 42.0 seconds RetCode: 0 Status: OK