Package: qPLEXdata Version: 1.28.0 Command: /home/biocbuild/bbs-3.22-bioc/R/bin/R CMD build --keep-empty-dirs --no-resave-data qPLEXdata StartedAt: 2025-11-18 12:00:48 -0500 (Tue, 18 Nov 2025) EndedAt: 2025-11-18 12:01:37 -0500 (Tue, 18 Nov 2025) EllapsedTime: 49.5 seconds RetCode: 1 Status: ERROR PackageFile: None PackageFileSize: NA