Package: prostateCancerGrasso Version: 1.38.0 Command: /home/biocbuild/bbs-3.22-bioc/R/bin/R CMD INSTALL prostateCancerGrasso StartedAt: 2025-10-30 10:56:57 -0400 (Thu, 30 Oct 2025) EndedAt: 2025-10-30 10:57:08 -0400 (Thu, 30 Oct 2025) EllapsedTime: 11.0 seconds RetCode: 0 Status: OK