Package: nanotubes Version: 1.26.0 Command: /home/biocbuild/bbs-3.22-bioc/R/bin/R CMD build --keep-empty-dirs --no-resave-data nanotubes StartedAt: 2025-11-20 11:36:13 -0500 (Thu, 20 Nov 2025) EndedAt: 2025-11-20 11:36:38 -0500 (Thu, 20 Nov 2025) EllapsedTime: 24.6 seconds RetCode: 0 Status: OK PackageFile: nanotubes_1.26.0.tar.gz PackageFileSize: 117.6 MiB