Package: muSpaData Version: 1.2.0 Command: /home/biocbuild/bbs-3.22-bioc/R/bin/R CMD build --keep-empty-dirs --no-resave-data muSpaData StartedAt: 2025-11-25 11:32:28 -0500 (Tue, 25 Nov 2025) EndedAt: 2025-11-25 11:33:42 -0500 (Tue, 25 Nov 2025) EllapsedTime: 74.2 seconds RetCode: 0 Status: OK PackageFile: muSpaData_1.2.0.tar.gz PackageFileSize: 582.8 KiB