Package: mtbls2 Version: 1.39.1 Command: /home/biocbuild/bbs-3.22-bioc/R/bin/R CMD INSTALL mtbls2 StartedAt: 2025-10-02 10:55:35 -0400 (Thu, 02 Oct 2025) EndedAt: 2025-10-02 10:56:15 -0400 (Thu, 02 Oct 2025) EllapsedTime: 39.9 seconds RetCode: 0 Status: OK