Package: msigdb Version: 1.18.0 Command: /home/biocbuild/bbs-3.22-bioc/R/bin/R CMD INSTALL msigdb StartedAt: 2025-10-30 10:58:32 -0400 (Thu, 30 Oct 2025) EndedAt: 2025-10-30 10:58:34 -0400 (Thu, 30 Oct 2025) EllapsedTime: 2.0 seconds RetCode: 0 Status: OK