Package: msigdb Version: 1.18.0 Command: /home/biocbuild/bbs-3.22-bioc/R/bin/R CMD build --keep-empty-dirs --no-resave-data msigdb StartedAt: 2025-10-30 11:40:46 -0400 (Thu, 30 Oct 2025) EndedAt: 2025-10-30 11:50:03 -0400 (Thu, 30 Oct 2025) EllapsedTime: 557.6 seconds RetCode: 0 Status: OK PackageFile: msigdb_1.18.0.tar.gz PackageFileSize: 304.7 KiB