Package: msdata Version: 0.50.0 Command: /home/biocbuild/bbs-3.22-bioc/R/bin/R CMD INSTALL msdata StartedAt: 2025-11-20 10:55:18 -0500 (Thu, 20 Nov 2025) EndedAt: 2025-11-20 10:55:34 -0500 (Thu, 20 Nov 2025) EllapsedTime: 16.0 seconds RetCode: 0 Status: OK