Package: msdata Version: 0.50.0 Command: /home/biocbuild/bbs-3.22-bioc/R/bin/R CMD build --keep-empty-dirs --no-resave-data msdata StartedAt: 2025-11-20 11:34:17 -0500 (Thu, 20 Nov 2025) EndedAt: 2025-11-20 11:35:09 -0500 (Thu, 20 Nov 2025) EllapsedTime: 51.6 seconds RetCode: 0 Status: OK PackageFile: msdata_0.50.0.tar.gz PackageFileSize: 426.4 MiB