Package: mosaicsExample Version: 1.48.0 Maintainer: Dongjun Chung MaintainerEmail: dongjun.chung at gmail.com git_url: https://git.bioconductor.org/packages/mosaicsExample git_branch: RELEASE_3_22 git_last_commit: a221875 git_last_commit_date: 2025-10-29 09:32:03 -0400 (Wed, 29 Oct 2025)