Package: minfiData Version: 0.55.0 Command: /home/biocbuild/bbs-3.22-bioc/R/bin/R CMD INSTALL minfiData StartedAt: 2025-09-30 11:03:01 -0400 (Tue, 30 Sep 2025) EndedAt: 2025-09-30 11:03:44 -0400 (Tue, 30 Sep 2025) EllapsedTime: 43.5 seconds RetCode: 0 Status: OK