Package: microRNAome Version: 1.32.0 Command: /home/biocbuild/bbs-3.22-bioc/R/bin/R CMD INSTALL microRNAome StartedAt: 2025-11-20 11:00:09 -0500 (Thu, 20 Nov 2025) EndedAt: 2025-11-20 11:00:23 -0500 (Thu, 20 Nov 2025) EllapsedTime: 14.0 seconds RetCode: 0 Status: OK