Package: methylclockData Version: 1.17.0 Command: /home/biocbuild/bbs-3.22-bioc/R/bin/R CMD INSTALL methylclockData StartedAt: 2025-09-30 11:05:05 -0400 (Tue, 30 Sep 2025) EndedAt: 2025-09-30 11:05:46 -0400 (Tue, 30 Sep 2025) EllapsedTime: 41.3 seconds RetCode: 0 Status: OK