Package: mCSEAdata Version: 1.29.0 Command: /home/biocbuild/bbs-3.22-bioc/R/bin/R CMD INSTALL mCSEAdata StartedAt: 2025-10-02 10:58:31 -0400 (Thu, 02 Oct 2025) EndedAt: 2025-10-02 10:59:35 -0400 (Thu, 02 Oct 2025) EllapsedTime: 64.6 seconds RetCode: 0 Status: OK