Package: kidpack Version: 1.52.0 Command: /home/biocbuild/bbs-3.22-bioc/R/bin/R CMD INSTALL kidpack StartedAt: 2025-11-18 10:56:43 -0500 (Tue, 18 Nov 2025) EndedAt: 2025-11-18 10:56:48 -0500 (Tue, 18 Nov 2025) EllapsedTime: 5.4 seconds RetCode: 0 Status: OK