Package: kidpack Version: 1.52.0 Command: /home/biocbuild/bbs-3.22-bioc/R/bin/R CMD build --keep-empty-dirs --no-resave-data kidpack StartedAt: 2025-11-18 11:41:48 -0500 (Tue, 18 Nov 2025) EndedAt: 2025-11-18 11:42:00 -0500 (Tue, 18 Nov 2025) EllapsedTime: 12.1 seconds RetCode: 0 Status: OK PackageFile: kidpack_1.52.0.tar.gz PackageFileSize: 18.39 MiB