Package: healthyFlowData Version: 1.47.0 Command: /home/biocbuild/bbs-3.22-bioc/R/bin/R CMD build --keep-empty-dirs --no-resave-data healthyFlowData StartedAt: 2025-10-23 11:22:41 -0400 (Thu, 23 Oct 2025) EndedAt: 2025-10-23 11:22:49 -0400 (Thu, 23 Oct 2025) EllapsedTime: 8.4 seconds RetCode: 0 Status: OK PackageFile: healthyFlowData_1.47.0.tar.gz PackageFileSize: 10.89 MiB