Package: hapmapsnp6 Version: 1.52.0 Command: /home/biocbuild/bbs-3.22-bioc/R/bin/R CMD build --keep-empty-dirs --no-resave-data hapmapsnp6 StartedAt: 2025-11-06 11:20:55 -0500 (Thu, 06 Nov 2025) EndedAt: 2025-11-06 11:25:03 -0500 (Thu, 06 Nov 2025) EllapsedTime: 248.3 seconds RetCode: 0 Status: OK PackageFile: hapmapsnp6_1.52.0.tar.gz PackageFileSize: 263.2 MiB