Package: hapmap500ksty Version: 1.51.0 Command: /home/biocbuild/bbs-3.22-bioc/R/bin/R CMD build --keep-empty-dirs --no-resave-data hapmap500ksty StartedAt: 2025-10-14 11:20:27 -0400 (Tue, 14 Oct 2025) EndedAt: 2025-10-14 11:23:01 -0400 (Tue, 14 Oct 2025) EllapsedTime: 154.0 seconds RetCode: 0 Status: OK PackageFile: hapmap500ksty_1.51.0.tar.gz PackageFileSize: 77.63 MiB