Package: geneLenDataBase Version: 1.45.0 Command: /home/biocbuild/bbs-3.22-bioc/R/bin/R CMD INSTALL geneLenDataBase StartedAt: 2025-10-14 11:02:48 -0400 (Tue, 14 Oct 2025) EndedAt: 2025-10-14 11:04:12 -0400 (Tue, 14 Oct 2025) EllapsedTime: 84.0 seconds RetCode: 0 Status: OK