Package: geneLenDataBase Version: 1.46.0 Maintainer: Federico Marini MaintainerEmail: marinif at uni-mainz.de git_url: https://git.bioconductor.org/packages/geneLenDataBase git_branch: RELEASE_3_22 git_last_commit: 0bae7f6 git_last_commit_date: 2025-10-29 09:31:54 -0500 (Wed, 29 Oct 2025)