Package: furrowSeg Version: 1.38.0 Command: /home/biocbuild/bbs-3.22-bioc/R/bin/R CMD build --keep-empty-dirs --no-resave-data furrowSeg StartedAt: 2025-11-18 11:30:38 -0500 (Tue, 18 Nov 2025) EndedAt: 2025-11-18 11:35:33 -0500 (Tue, 18 Nov 2025) EllapsedTime: 295.4 seconds RetCode: 0 Status: OK PackageFile: furrowSeg_1.38.0.tar.gz PackageFileSize: 349.3 MiB