Package: frmaExampleData Version: 1.46.0 Maintainer: Matthew N. McCall MaintainerEmail: mmccall at jhsph.edu git_url: https://git.bioconductor.org/packages/frmaExampleData git_branch: RELEASE_3_22 git_last_commit: def44a0 git_last_commit_date: 2025-10-29 09:31:42 -0500 (Wed, 29 Oct 2025)