Package: flowPloidyData Version: 1.36.0 Command: /home/biocbuild/bbs-3.22-bioc/R/bin/R CMD build --keep-empty-dirs --no-resave-data flowPloidyData StartedAt: 2025-11-04 11:18:59 -0500 (Tue, 04 Nov 2025) EndedAt: 2025-11-04 11:19:04 -0500 (Tue, 04 Nov 2025) EllapsedTime: 5.0 seconds RetCode: 0 Status: OK PackageFile: flowPloidyData_1.36.0.tar.gz PackageFileSize: 7.099 MiB