Package: fission Version: 1.30.0 Command: /home/biocbuild/bbs-3.22-bioc/R/bin/R CMD INSTALL fission StartedAt: 2025-11-20 10:59:13 -0500 (Thu, 20 Nov 2025) EndedAt: 2025-11-20 10:59:28 -0500 (Thu, 20 Nov 2025) EllapsedTime: 15.6 seconds RetCode: 0 Status: OK