Package: ewceData Version: 1.17.0 Command: /home/biocbuild/bbs-3.22-bioc/R/bin/R CMD INSTALL ewceData StartedAt: 2025-10-16 10:56:50 -0400 (Thu, 16 Oct 2025) EndedAt: 2025-10-16 10:57:04 -0400 (Thu, 16 Oct 2025) EllapsedTime: 14.2 seconds RetCode: 0 Status: OK