Package: ewceData Version: 1.17.0 Command: /home/biocbuild/bbs-3.22-bioc/R/bin/R CMD build --keep-empty-dirs --no-resave-data ewceData StartedAt: 2025-10-16 11:16:19 -0400 (Thu, 16 Oct 2025) EndedAt: 2025-10-16 11:17:12 -0400 (Thu, 16 Oct 2025) EllapsedTime: 53.5 seconds RetCode: 0 Status: OK PackageFile: ewceData_1.17.0.tar.gz PackageFileSize: 45.18 KiB