Package: diggitdata Version: 1.41.0 Command: /home/biocbuild/bbs-3.22-bioc/R/bin/R CMD build --keep-empty-dirs --no-resave-data diggitdata StartedAt: 2025-09-25 11:13:43 -0400 (Thu, 25 Sep 2025) EndedAt: 2025-09-25 11:14:02 -0400 (Thu, 25 Sep 2025) EllapsedTime: 19.1 seconds RetCode: 0 Status: OK PackageFile: diggitdata_1.41.0.tar.gz PackageFileSize: 47.39 MiB