Package: depmap Version: 1.24.0 Command: /home/biocbuild/bbs-3.22-bioc/R/bin/R CMD INSTALL depmap StartedAt: 2025-10-30 10:58:04 -0400 (Thu, 30 Oct 2025) EndedAt: 2025-10-30 10:58:26 -0400 (Thu, 30 Oct 2025) EllapsedTime: 22.2 seconds RetCode: 0 Status: OK